BEGIN:VCALENDAR
VERSION:2.0
METHOD:PUBLISH
X-WR-CALNAME:Anarres Natural Health Apothecary |  April 08 2009- May 08 2009
PRODID:-//strange bird labs//Drupal iCal API//EN
BEGIN:VEVENT
DTSTAMP;VALUE=DATE-TIME:20260422T222215Z
DTSTART;VALUE=DATE-TIME:20090416T233000Z
DTEND;VALUE=DATE-TIME:20090417T013000Z
UID:http://www.anarreshealth.ca/node/320
URL;VALUE=URI:http://www.anarreshealth.ca/node/320
SUMMARY:Community Cinema Circle\: Flatland and Dreammaker
DESCRIPTION:n/a
END:VEVENT
BEGIN:VEVENT
DTSTAMP;VALUE=DATE-TIME:20260422T222215Z
DTSTART;VALUE=DATE-TIME:20090507T230000Z
DTEND;VALUE=DATE-TIME:20090508T030000Z
UID:http://www.anarreshealth.ca/node/300
URL;VALUE=URI:http://www.anarreshealth.ca/node/300
SUMMARY:Shampoo!!! Mother's Day Party and Teach-In
DESCRIPTION:n/a
END:VEVENT
BEGIN:VEVENT
DTSTAMP;VALUE=DATE-TIME:20260422T222215Z
DTSTART;VALUE=DATE-TIME:20090508T000000Z
DTEND;VALUE=DATE-TIME:20090508T000000Z
UID:http://www.anarreshealth.ca/node/438
URL;VALUE=URI:http://www.anarreshealth.ca/node/438
SUMMARY:Anarres Sponsors the Buddha Lounge
DESCRIPTION:n/a
END:VEVENT
END:VCALENDAR
