BEGIN:VCALENDAR
VERSION:2.0
METHOD:PUBLISH
X-WR-CALNAME:Anarres Natural Health Apothecary |  January 24 2010- January 31 2010 | Filter\: 
PRODID:-//strange bird labs//Drupal iCal API//EN
BEGIN:VEVENT
DTSTAMP;VALUE=DATE-TIME:20260419T132454Z
DTSTART;VALUE=DATE-TIME:20100123T150000Z
DTEND;VALUE=DATE-TIME:20100124T210000Z
UID:http://www.anarreshealth.ca/node/637
URL;VALUE=URI:http://www.anarreshealth.ca/node/637
SUMMARY:Join Me for a Palmistry as a Healing Art Intensive with Kore Changes
DESCRIPTION:<p>**Palmistry Weekend Intensive\: Accepting Registrations*</p>
 <p>*When\:* 10-4pm Saturday January 23 and Sunday January 24<br />
 *Where\:* Follow Your Bliss Toronto (25 Grange\, SE of Dundas-Spadina)</p>
 
END:VEVENT
BEGIN:VEVENT
DTSTAMP;VALUE=DATE-TIME:20260419T132454Z
DTSTART;VALUE=DATE-TIME:20100130T003000Z
DTEND;VALUE=DATE-TIME:20100130T023000Z
UID:http://www.anarreshealth.ca/node/596
URL;VALUE=URI:http://www.anarreshealth.ca/node/596
SUMMARY:Make Your Own Mojo Oils for Embodiment and Ecstasy
DESCRIPTION:n/a
END:VEVENT
END:VCALENDAR
