BEGIN:VCALENDAR
VERSION:2.0
METHOD:PUBLISH
X-WR-CALNAME:Anarres Natural Health Apothecary |  June 20 2010- July 20 2010
PRODID:-//strange bird labs//Drupal iCal API//EN
BEGIN:VEVENT
DTSTAMP;VALUE=DATE-TIME:20260420T001400Z
DTSTART;VALUE=DATE-TIME:20100625T140000Z
DTEND;VALUE=DATE-TIME:20100704T050000Z
UID:http://www.anarreshealth.ca/node/731
URL;VALUE=URI:http://www.anarreshealth.ca/node/731
SUMMARY:Pride Festival
DESCRIPTION:<p>Stay tuned for Pride themed workshops from Anarres Natural Health.</p>
 <p>See the Festival here\: <a href=\\"http\://www.pridetoronto.com/festival/\\" title=\\"http\://www.pridetoronto.com/festival/\\">http\://www.pridetoronto.com/festival/</a></p>
 
END:VEVENT
BEGIN:VEVENT
DTSTAMP;VALUE=DATE-TIME:20260420T001400Z
DTSTART;VALUE=DATE-TIME:20100719T233000Z
DTEND;VALUE=DATE-TIME:20100720T003000Z
UID:http://www.anarreshealth.ca/node/820
URL;VALUE=URI:http://www.anarreshealth.ca/node/820
SUMMARY:The Joy of Incense\: Make Your Own from Essential Oils session 2 of 2
DESCRIPTION:n/a
END:VEVENT
END:VCALENDAR
