BEGIN:VCALENDAR
VERSION:2.0
METHOD:PUBLISH
X-WR-CALNAME:Anarres Natural Health Apothecary |  July 30 2010- August 29 2010
PRODID:-//strange bird labs//Drupal iCal API//EN
BEGIN:VEVENT
DTSTAMP;VALUE=DATE-TIME:20260423T045556Z
DTSTART;VALUE=DATE-TIME:20100731T135500Z
DTEND;VALUE=DATE-TIME:20100816T015500Z
UID:http://www.anarreshealth.ca/node/832
URL;VALUE=URI:http://www.anarreshealth.ca/node/832
SUMMARY:Vacation - Visiting Family in Nova Scotia
DESCRIPTION:n/a
END:VEVENT
BEGIN:VEVENT
DTSTAMP;VALUE=DATE-TIME:20260423T045556Z
DTSTART;VALUE=DATE-TIME:20100816T140000Z
DTEND;VALUE=DATE-TIME:20100816T230000Z
UID:http://www.anarreshealth.ca/node/836
URL;VALUE=URI:http://www.anarreshealth.ca/node/836
SUMMARY:DIY Supply and Refill Day in the Clinic
DESCRIPTION:<p>June &amp\; July's DIY Discounts apply today only while supplies last.</p>
 
END:VEVENT
BEGIN:VEVENT
DTSTAMP;VALUE=DATE-TIME:20260423T045556Z
DTSTART;VALUE=DATE-TIME:20100817T000000Z
DTEND;VALUE=DATE-TIME:20100817T020000Z
UID:http://www.anarreshealth.ca/node/837
URL;VALUE=URI:http://www.anarreshealth.ca/node/837
SUMMARY:GMO Report Back\: Food Issues Committee at Karma Coop
DESCRIPTION:<p>I will be reporting back on the GMO Verification Project.</p>
 
END:VEVENT
BEGIN:VEVENT
DTSTAMP;VALUE=DATE-TIME:20260423T045556Z
DTSTART;VALUE=DATE-TIME:20100818T180000Z
DTEND;VALUE=DATE-TIME:20100818T210000Z
UID:http://www.anarreshealth.ca/node/841
URL;VALUE=URI:http://www.anarreshealth.ca/node/841
SUMMARY:Laundry and Body Soap Making for the Youth of The Ripple Effect\, United Nations Association in Canada
DESCRIPTION:n/a
END:VEVENT
BEGIN:VEVENT
DTSTAMP;VALUE=DATE-TIME:20260423T045556Z
DTSTART;VALUE=DATE-TIME:20100818T233000Z
DTEND;VALUE=DATE-TIME:20100819T023000Z
UID:http://www.anarreshealth.ca/node/810
URL;VALUE=URI:http://www.anarreshealth.ca/node/810
SUMMARY:Make Sunscreening Lotions\, Potions and Creams for Burning Man 2010 - ONLY FOR BURNING MAN PARTICIPANTS!
DESCRIPTION:<p>WHAT\: Make Sunscreening Lotions\, Potions and Creams for Burning Man 2010<br />
 WHEN\: Wednesday\, August 18\, 9pm until whenever!<br />
 WHERE\: Anarres Natural Health Clinic\, College and Ossington in Toronto</p>
 
END:VEVENT
BEGIN:VEVENT
DTSTAMP;VALUE=DATE-TIME:20260423T045556Z
DTSTART;VALUE=DATE-TIME:20100821T135900Z
DTEND;VALUE=DATE-TIME:20100830T015900Z
UID:http://www.anarreshealth.ca/node/833
URL;VALUE=URI:http://www.anarreshealth.ca/node/833
SUMMARY:Vacation - Visiting Family and Friends in Tacoma and San Jose
DESCRIPTION:n/a
END:VEVENT
END:VCALENDAR
