BEGIN:VCALENDAR
VERSION:2.0
METHOD:PUBLISH
X-WR-CALNAME:Anarres Natural Health Apothecary |  October 27 2023- November 26 2023
PRODID:-//strange bird labs//Drupal iCal API//EN
BEGIN:VEVENT
DTSTAMP;VALUE=DATE-TIME:20260420T021207Z
DTSTART;VALUE=DATE-TIME:20231112T160000Z
DTEND;VALUE=DATE-TIME:20231112T180000Z
UID:http://www.anarreshealth.ca/workshop/do-it-together-hand-salves-building-roots-gathering-space
URL;VALUE=URI:http://www.anarreshealth.ca/workshop/do-it-together-hand-salves-building-roots-gathering-space
SUMMARY:Do It Together\: Hand Salves at Building Roots Gathering Space
DESCRIPTION:n/a
END:VEVENT
END:VCALENDAR
