BEGIN:VCALENDAR
VERSION:2.0
METHOD:PUBLISH
X-WR-CALNAME:Anarres Natural Health Apothecary |  August 09 2025- September 08 2025 | Filter\: 
PRODID:-//strange bird labs//Drupal iCal API//EN
BEGIN:VEVENT
DTSTAMP;VALUE=DATE-TIME:20260419T204940Z
DTSTART;VALUE=DATE-TIME:20250812T223000Z
DTEND;VALUE=DATE-TIME:20250813T003000Z
UID:http://www.anarreshealth.ca/diy-bug-Ripple
URL;VALUE=URI:http://www.anarreshealth.ca/diy-bug-Ripple
SUMMARY:CANCELLED\: Workshop\: DIY Bug Spray at Dufferin Grove
DESCRIPTION:n/a
END:VEVENT
END:VCALENDAR
