BEGIN:VCALENDAR
VERSION:2.0
METHOD:PUBLISH
X-WR-CALNAME:Anarres Natural Health Apothecary |  December 18 2025- January 17 2026 | Filter\: 
PRODID:-//strange bird labs//Drupal iCal API//EN
BEGIN:VEVENT
DTSTAMP;VALUE=DATE-TIME:20260420T004719Z
DTSTART;VALUE=DATE-TIME:20251220T150000Z
DTEND;VALUE=DATE-TIME:20251220T230000Z
UID:http://www.anarreshealth.ca/workshop/frostbite-sale-bazaar-bizarre
URL;VALUE=URI:http://www.anarreshealth.ca/workshop/frostbite-sale-bazaar-bizarre
SUMMARY:Frostbite Sale\: The Bazaar of The Bizarre
DESCRIPTION:n/a
END:VEVENT
BEGIN:VEVENT
DTSTAMP;VALUE=DATE-TIME:20260420T004719Z
DTSTART;VALUE=DATE-TIME:20260111T160000Z
DTEND;VALUE=DATE-TIME:20260111T180000Z
UID:http://www.anarreshealth.ca/workshop-personal-perfume
URL;VALUE=URI:http://www.anarreshealth.ca/workshop-personal-perfume
SUMMARY:Workshop\: Make a Personal Perfume
DESCRIPTION:n/a
END:VEVENT
END:VCALENDAR
