BEGIN:VCALENDAR
VERSION:2.0
METHOD:PUBLISH
X-WR-CALNAME:Anarres Natural Health Apothecary |  February 15 2026- February 22 2026 | Filter\: 
PRODID:-//strange bird labs//Drupal iCal API//EN
BEGIN:VEVENT
DTSTAMP;VALUE=DATE-TIME:20260420T225112Z
DTSTART;VALUE=DATE-TIME:20260221T200000Z
DTEND;VALUE=DATE-TIME:20260221T210000Z
UID:http://www.anarreshealth.ca/workshop/private-oaopo
URL;VALUE=URI:http://www.anarreshealth.ca/workshop/private-oaopo
SUMMARY:PRIVATE\: OAoPO
DESCRIPTION:<p>Saturday\, Feb 21\, 2026 ⋅ 4-5pm (Eastern Time - Toronto)</p>
 
END:VEVENT
END:VCALENDAR
