BEGIN:VCALENDAR
VERSION:2.0
METHOD:PUBLISH
X-WR-CALNAME:Anarres Natural Health Apothecary |  April 05 2026- April 12 2026 | Filter\: 
PRODID:-//strange bird labs//Drupal iCal API//EN
BEGIN:VEVENT
DTSTAMP;VALUE=DATE-TIME:20260420T094305Z
DTSTART;VALUE=DATE-TIME:20260405T180000Z
DTEND;VALUE=DATE-TIME:20260405T210000Z
UID:http://www.anarreshealth.ca/workshop/private-class-2
URL;VALUE=URI:http://www.anarreshealth.ca/workshop/private-class-2
SUMMARY:PRIVATE\: CLASS
END:VEVENT
END:VCALENDAR
