BEGIN:VCALENDAR
VERSION:2.0
METHOD:PUBLISH
X-WR-CALNAME:Anarres Natural Health Apothecary |  April 19 2026- April 26 2026 | Filter\: 
PRODID:-//strange bird labs//Drupal iCal API//EN
BEGIN:VEVENT
DTSTAMP;VALUE=DATE-TIME:20260420T072630Z
DTSTART;VALUE=DATE-TIME:20260421T153000Z
DTEND;VALUE=DATE-TIME:20260422T233000Z
UID:http://www.anarreshealth.ca/workshop/soaping-and-distilling-t
URL;VALUE=URI:http://www.anarreshealth.ca/workshop/soaping-and-distilling-t
SUMMARY:Soaping and Distilling with T
DESCRIPTION:<p>* Two + Batches of soaps for a June wedding<br />
 ~ Raw Cacao Chocolate<br />
 ~ Castor Oil with pink mica = cute</p>
 <p>* Distilling a fir balsam Christmas tree for hydrosol in the new distiller</p>
 
END:VEVENT
END:VCALENDAR
