BEGIN:VCALENDAR
VERSION:2.0
METHOD:PUBLISH
X-WR-CALNAME:Anarres Natural Health Apothecary |  May 14 2026- June 13 2026 | Filter\: 
PRODID:-//strange bird labs//Drupal iCal API//EN
BEGIN:VEVENT
DTSTAMP;VALUE=DATE-TIME:20260422T221812Z
DTSTART;VALUE=DATE-TIME:20260517T160000Z
DTEND;VALUE=DATE-TIME:20260517T180000Z
UID:http://www.anarreshealth.ca/make-lip-balm-and-gloss
URL;VALUE=URI:http://www.anarreshealth.ca/make-lip-balm-and-gloss
SUMMARY:Workshop\: Make Lip Balm and Lip Gloss at Karma Coop!
DESCRIPTION:n/a
END:VEVENT
BEGIN:VEVENT
DTSTAMP;VALUE=DATE-TIME:20260422T221812Z
DTSTART;VALUE=DATE-TIME:20260612T170000Z
DTEND;VALUE=DATE-TIME:20260616T000000Z
UID:http://www.anarreshealth.ca/workshop/private-event
URL;VALUE=URI:http://www.anarreshealth.ca/workshop/private-event
SUMMARY:PRIVATE EVENT
END:VEVENT
END:VCALENDAR
