BEGIN:VCALENDAR
VERSION:2.0
METHOD:PUBLISH
X-WR-CALNAME:Anarres Natural Health Apothecary |  July 19 2026- August 18 2026 | Filter\: 
PRODID:-//strange bird labs//Drupal iCal API//EN
BEGIN:VEVENT
DTSTAMP;VALUE=DATE-TIME:20260422T223441Z
DTSTART;VALUE=DATE-TIME:20260717T120000Z
DTEND;VALUE=DATE-TIME:20260727T000000Z
UID:http://www.anarreshealth.ca/workshop/conscious-minds-youth-camp-elder
URL;VALUE=URI:http://www.anarreshealth.ca/workshop/conscious-minds-youth-camp-elder
SUMMARY:Conscious Minds Youth Camp Elder
DESCRIPTION:n/a
END:VEVENT
BEGIN:VEVENT
DTSTAMP;VALUE=DATE-TIME:20260422T223441Z
DTSTART;VALUE=DATE-TIME:20260807T130000Z
DTEND;VALUE=DATE-TIME:20260810T010000Z
UID:http://www.anarreshealth.ca/camp-wizard-tracey
URL;VALUE=URI:http://www.anarreshealth.ca/camp-wizard-tracey
SUMMARY:Herbal Wizard Tracey Gaming and Fantasy Weekend at Camp Naivelt
DESCRIPTION:n/a
END:VEVENT
BEGIN:VEVENT
DTSTAMP;VALUE=DATE-TIME:20260422T223441Z
DTSTART;VALUE=DATE-TIME:20260811T013500Z
DTEND;VALUE=DATE-TIME:20260814T013500Z
UID:http://www.anarreshealth.ca/workshop/camp-nailvelt-creative-week-tracey-facilitates-craft-workshops
URL;VALUE=URI:http://www.anarreshealth.ca/workshop/camp-nailvelt-creative-week-tracey-facilitates-craft-workshops
SUMMARY:Camp Nailvelt Creative Week\: Tracey Facilitates Craft Workshops
DESCRIPTION:n/a
END:VEVENT
BEGIN:VEVENT
DTSTAMP;VALUE=DATE-TIME:20260422T223441Z
DTSTART;VALUE=DATE-TIME:20260815T135100Z
DTEND;VALUE=DATE-TIME:20260816T015100Z
UID:http://www.anarreshealth.ca/workshop/camp-naivelt-live-action-role-play-tracey-bubbe-mirele
URL;VALUE=URI:http://www.anarreshealth.ca/workshop/camp-naivelt-live-action-role-play-tracey-bubbe-mirele
SUMMARY:Camp Naivelt\: Live Action Role Play with Tracey as Bubbe Mirele
DESCRIPTION:n/a
END:VEVENT
END:VCALENDAR
